BEGIN:VCALENDAR
VERSION:2.0
PRODID:-//Federação Portuguesa Aeromodelismo - ECPv6.10.2//NONSGML v1.0//EN
CALSCALE:GREGORIAN
METHOD:PUBLISH
X-WR-CALNAME:Federação Portuguesa Aeromodelismo
X-ORIGINAL-URL:https://fpam.pt
X-WR-CALDESC:Events for Federação Portuguesa Aeromodelismo
REFRESH-INTERVAL;VALUE=DURATION:PT1H
X-Robots-Tag:noindex
X-PUBLISHED-TTL:PT1H
BEGIN:VTIMEZONE
TZID:Europe/Lisbon
BEGIN:DAYLIGHT
TZOFFSETFROM:+0000
TZOFFSETTO:+0100
TZNAME:WEST
DTSTART:20260329T010000
END:DAYLIGHT
BEGIN:STANDARD
TZOFFSETFROM:+0100
TZOFFSETTO:+0000
TZNAME:WET
DTSTART:20261025T010000
END:STANDARD
END:VTIMEZONE
BEGIN:VTIMEZONE
TZID:UTC
BEGIN:STANDARD
TZOFFSETFROM:+0000
TZOFFSETTO:+0000
TZNAME:UTC
DTSTART:20260101T000000
END:STANDARD
END:VTIMEZONE
BEGIN:VEVENT
DTSTART;VALUE=DATE:20260926
DTEND;VALUE=DATE:20260927
DTSTAMP:20260419T233144
CREATED:20260106T205514Z
LAST-MODIFIED:20260106T205514Z
UID:3007-1790380800-1790467199@fpam.pt
SUMMARY:73º Aniversário do CAL
DESCRIPTION:
URL:https://fpam.pt/event/73o-aniversario-do-cal-2/
CATEGORIES:Todas as Classes
END:VEVENT
BEGIN:VEVENT
DTSTART;TZID=UTC:20260926T090000
DTEND;TZID=UTC:20260926T170000
DTSTAMP:20260419T233144
CREATED:20260207T165129Z
LAST-MODIFIED:20260207T165129Z
UID:3073-1790413200-1790442000@fpam.pt
SUMMARY:Prova F3A do CJA 2026
DESCRIPTION:
URL:https://fpam.pt/event/prova-f3a-do-cja-2026/
LOCATION:Pista CJA Tomar\, Valdonas
END:VEVENT
BEGIN:VEVENT
DTSTART;VALUE=DATE:20261003
DTEND;VALUE=DATE:20261004
DTSTAMP:20260419T233144
CREATED:20260106T205515Z
LAST-MODIFIED:20260106T205515Z
UID:3010-1790985600-1791071999@fpam.pt
SUMMARY:Prova F4H CAC+AM
DESCRIPTION:
URL:https://fpam.pt/event/prova-f4h-cacam-2/
CATEGORIES:Escalas
END:VEVENT
BEGIN:VEVENT
DTSTART;VALUE=DATE:20261010
DTEND;VALUE=DATE:20261011
DTSTAMP:20260419T233144
CREATED:20260106T204240Z
LAST-MODIFIED:20260106T205515Z
UID:2918-1791590400-1791676799@fpam.pt
SUMMARY:22ª Prova F9Micro Drones
DESCRIPTION:
URL:https://fpam.pt/event/22a-prova-f9micro-drones/
CATEGORIES:F9M
ORGANIZER;CN="CAAR %E2%8B%85 Clube de Aeromodelismo de Alverca do Ribatejo":MAILTO:caar.aeromodelismo@gmail.com
END:VEVENT
BEGIN:VEVENT
DTSTART;VALUE=DATE:20261017
DTEND;VALUE=DATE:20261018
DTSTAMP:20260419T233144
CREATED:20260106T205529Z
LAST-MODIFIED:20260106T205529Z
UID:3011-1792195200-1792281599@fpam.pt
SUMMARY:3ª Etapa Fernando Coelho Cup
DESCRIPTION:
URL:https://fpam.pt/event/3a-etapa-fernando-coelho-cup-2/
CATEGORIES:F4H
END:VEVENT
BEGIN:VEVENT
DTSTART;VALUE=DATE:20261017
DTEND;VALUE=DATE:20261018
DTSTAMP:20260419T233144
CREATED:20260106T205530Z
LAST-MODIFIED:20260106T205530Z
UID:3012-1792195200-1792281599@fpam.pt
SUMMARY:LIPA FunFly II 2026
DESCRIPTION:
URL:https://fpam.pt/event/lipa-funfly-ii-2026-2/
CATEGORIES:F3 Todas
ORGANIZER;CN="LIPA - Liga de Inicia%C3%A7%C3%A3o e Propaganda da Aeron%C3%A1utica":MAILTO:lipa.direcao@gmail.com
END:VEVENT
BEGIN:VEVENT
DTSTART;VALUE=DATE:20261107
DTEND;VALUE=DATE:20261108
DTSTAMP:20260419T233144
CREATED:20260106T205530Z
LAST-MODIFIED:20260106T205530Z
UID:3013-1794009600-1794095999@fpam.pt
SUMMARY:4ªEtapa Fernando Coelho Cup
DESCRIPTION:
URL:https://fpam.pt/event/4aetapa-fernando-coelho-cup-2/
CATEGORIES:F4H
END:VEVENT
BEGIN:VEVENT
DTSTART;VALUE=DATE:20261108
DTEND;VALUE=DATE:20261109
DTSTAMP:20260419T233144
CREATED:20260106T205530Z
LAST-MODIFIED:20260106T205530Z
UID:3014-1794096000-1794182399@fpam.pt
SUMMARY:Troféu Control Line Portugal
DESCRIPTION:
URL:https://fpam.pt/event/trofeu-control-line-portugal-5/
CATEGORIES:F2
END:VEVENT
BEGIN:VEVENT
DTSTART;VALUE=DATE:20261114
DTEND;VALUE=DATE:20261115
DTSTAMP:20260419T233144
CREATED:20260106T205530Z
LAST-MODIFIED:20260106T205530Z
UID:3015-1794614400-1794700799@fpam.pt
SUMMARY:Mangusto do CAVA
DESCRIPTION:
URL:https://fpam.pt/event/mangusto-do-cava-4/
CATEGORIES:Todas as Classes
END:VEVENT
BEGIN:VEVENT
DTSTART;VALUE=DATE:20261114
DTEND;VALUE=DATE:20261115
DTSTAMP:20260419T233144
CREATED:20260106T205545Z
LAST-MODIFIED:20260106T205545Z
UID:3016-1794614400-1794700799@fpam.pt
SUMMARY:Mangusto da LIPA
DESCRIPTION:
URL:https://fpam.pt/event/mangusto-da-lipa-2/
CATEGORIES:F3 Todas
ORGANIZER;CN="LIPA - Liga de Inicia%C3%A7%C3%A3o e Propaganda da Aeron%C3%A1utica":MAILTO:lipa.direcao@gmail.com
END:VEVENT
BEGIN:VEVENT
DTSTART;VALUE=DATE:20261114
DTEND;VALUE=DATE:20261115
DTSTAMP:20260419T233144
CREATED:20260106T205546Z
LAST-MODIFIED:20260106T205546Z
UID:3017-1794614400-1794700799@fpam.pt
SUMMARY:23ª Prova de F9Micro Drones
DESCRIPTION:
URL:https://fpam.pt/event/23a-prova-de-f9micro-drones-2/
CATEGORIES:F9M
ORGANIZER;CN="CAAR %E2%8B%85 Clube de Aeromodelismo de Alverca do Ribatejo":MAILTO:caar.aeromodelismo@gmail.com
END:VEVENT
BEGIN:VEVENT
DTSTART;VALUE=DATE:20261121
DTEND;VALUE=DATE:20261122
DTSTAMP:20260419T233144
CREATED:20260106T205546Z
LAST-MODIFIED:20260106T205546Z
UID:3018-1795219200-1795305599@fpam.pt
SUMMARY:Fernando Coelho scale day
DESCRIPTION:
URL:https://fpam.pt/event/fernando-coelho-scale-day-4/
CATEGORIES:F4H
END:VEVENT
BEGIN:VEVENT
DTSTART;VALUE=DATE:20261212
DTEND;VALUE=DATE:20261213
DTSTAMP:20260419T233144
CREATED:20260106T204402Z
LAST-MODIFIED:20260106T205546Z
UID:2926-1797033600-1797119999@fpam.pt
SUMMARY:13º Encontro F9Micro Drones
DESCRIPTION:
URL:https://fpam.pt/event/13o-encontro-f9micro-drones/
CATEGORIES:F9M
ORGANIZER;CN="CAAR %E2%8B%85 Clube de Aeromodelismo de Alverca do Ribatejo":MAILTO:caar.aeromodelismo@gmail.com
END:VEVENT
END:VCALENDAR