BEGIN:VCALENDAR
VERSION:2.0
PRODID:-//Federação Portuguesa Aeromodelismo - ECPv6.10.2//NONSGML v1.0//EN
CALSCALE:GREGORIAN
METHOD:PUBLISH
X-WR-CALNAME:Federação Portuguesa Aeromodelismo
X-ORIGINAL-URL:https://fpam.pt
X-WR-CALDESC:Events for Federação Portuguesa Aeromodelismo
REFRESH-INTERVAL;VALUE=DURATION:PT1H
X-Robots-Tag:noindex
X-PUBLISHED-TTL:PT1H
BEGIN:VTIMEZONE
TZID:Europe/Lisbon
BEGIN:DAYLIGHT
TZOFFSETFROM:+0000
TZOFFSETTO:+0100
TZNAME:WEST
DTSTART:20260329T010000
END:DAYLIGHT
BEGIN:STANDARD
TZOFFSETFROM:+0100
TZOFFSETTO:+0000
TZNAME:WET
DTSTART:20261025T010000
END:STANDARD
END:VTIMEZONE
BEGIN:VTIMEZONE
TZID:UTC
BEGIN:STANDARD
TZOFFSETFROM:+0000
TZOFFSETTO:+0000
TZNAME:UTC
DTSTART:20260101T000000
END:STANDARD
END:VTIMEZONE
BEGIN:VEVENT
DTSTART;VALUE=DATE:20260307
DTEND;VALUE=DATE:20260309
DTSTAMP:20260419T222859
CREATED:20260106T205316Z
LAST-MODIFIED:20260204T163656Z
UID:2977-1772841600-1773014399@fpam.pt
SUMMARY:3º IndoorMania MBM
DESCRIPTION:
URL:https://fpam.pt/event/3o-indoormania-mbm-2/
CATEGORIES:Indoor
END:VEVENT
BEGIN:VEVENT
DTSTART;TZID=UTC:20260307T190000
DTEND;TZID=UTC:20260307T210000
DTSTAMP:20260419T222859
CREATED:20260117T135859Z
LAST-MODIFIED:20260204T163530Z
UID:3044-1772910000-1772917200@fpam.pt
SUMMARY:Prova de Pylon race indoor (Taça Abelha) MBM
DESCRIPTION:REGULAMENTO TAÇA ABELHA 2026
URL:https://fpam.pt/event/prova-de-pylon-race-indoor-taca-abelha-mbm/
LOCATION:Pavilhão Multiusos da  Carapinheira\, Rua de São Pedro Pavilhão Multiusos da Carapinheira 3140-099 Carapinheira\, Montemor-o-velho\, 3140-099\, Portugal
END:VEVENT
BEGIN:VEVENT
DTSTART;VALUE=DATE:20260308
DTEND;VALUE=DATE:20260309
DTSTAMP:20260419T222859
CREATED:20260106T205318Z
LAST-MODIFIED:20260223T185457Z
UID:2981-1772928000-1773014399@fpam.pt
SUMMARY:16º Aniversário CLP
DESCRIPTION:Regulamento particular 16 aniversário CLP
URL:https://fpam.pt/event/16o-aniversario-clp-2/
CATEGORIES:Voo Circular
END:VEVENT
BEGIN:VEVENT
DTSTART;TZID=UTC:20260313T080000
DTEND;TZID=UTC:20260313T170000
DTSTAMP:20260419T222859
CREATED:20260313T203012Z
LAST-MODIFIED:20260313T203012Z
UID:3096-1773388800-1773421200@fpam.pt
SUMMARY:Regulamento F9M 2026
DESCRIPTION:Versão Final 14.12.2026 Aprovada pela FPAm em 03-02-2026
URL:https://fpam.pt/event/regulamento-f9m-2026/
END:VEVENT
BEGIN:VEVENT
DTSTART;VALUE=DATE:20260314
DTEND;VALUE=DATE:20260315
DTSTAMP:20260419T222859
CREATED:20260106T205318Z
LAST-MODIFIED:20260228T105432Z
UID:2982-1773446400-1773532799@fpam.pt
SUMMARY:Troféu CAL F4H
DESCRIPTION:Ficha de inscrição TROFÉU CAL F4H 2026 \nRegulamento Particular Troféu CAL F4H 2026
URL:https://fpam.pt/event/trofeu-cal-f4h-8/
CATEGORIES:F4H
END:VEVENT
BEGIN:VEVENT
DTSTART;VALUE=DATE:20260321
DTEND;VALUE=DATE:20260322
DTSTAMP:20260419T222859
CREATED:20260106T205316Z
LAST-MODIFIED:20260210T153536Z
UID:2978-1774051200-1774137599@fpam.pt
SUMMARY:Encontro Indoor CAC 2026
DESCRIPTION:
URL:https://fpam.pt/event/encontro-indoor-cac-2026-2/
CATEGORIES:Indoor
END:VEVENT
BEGIN:VEVENT
DTSTART;VALUE=DATE:20260321
DTEND;VALUE=DATE:20260322
DTSTAMP:20260419T222859
CREATED:20260106T205316Z
LAST-MODIFIED:20260305T094159Z
UID:2979-1774051200-1774137599@fpam.pt
SUMMARY:Feira de Usados LIPA 2026
DESCRIPTION:
URL:https://fpam.pt/event/feira-de-usados-lipa-2026-2/
CATEGORIES:Todas as Classes
ORGANIZER;CN="LIPA - Liga de Inicia%C3%A7%C3%A3o e Propaganda da Aeron%C3%A1utica":MAILTO:lipa.direcao@gmail.com
END:VEVENT
BEGIN:VEVENT
DTSTART;VALUE=DATE:20260328
DTEND;VALUE=DATE:20260329
DTSTAMP:20260419T222859
CREATED:20260106T205318Z
LAST-MODIFIED:20260125T134912Z
UID:2983-1774656000-1774742399@fpam.pt
SUMMARY:44º Aniversário do CAS
DESCRIPTION:
URL:https://fpam.pt/event/aniversario-do-cas-2/
CATEGORIES:Todas as Classes
END:VEVENT
BEGIN:VEVENT
DTSTART;VALUE=DATE:20260328
DTEND;VALUE=DATE:20260329
DTSTAMP:20260419T222859
CREATED:20260106T205318Z
LAST-MODIFIED:20260321T222412Z
UID:2984-1774656000-1774742399@fpam.pt
SUMMARY:20ª Prova de F9M
DESCRIPTION:Regulamento-XX-Prova-F9-M-Micro-Drone-Racing-CAAR
URL:https://fpam.pt/event/20a-prova-de-f9m-2/
CATEGORIES:F9M
ORGANIZER;CN="CAAR %E2%8B%85 Clube de Aeromodelismo de Alverca do Ribatejo":MAILTO:caar.aeromodelismo@gmail.com
END:VEVENT
BEGIN:VEVENT
DTSTART;VALUE=DATE:20260411
DTEND;VALUE=DATE:20260412
DTSTAMP:20260419T222859
CREATED:20260106T205333Z
LAST-MODIFIED:20260106T205333Z
UID:2986-1775865600-1775951999@fpam.pt
SUMMARY:LIPA FunFly  I 2026
DESCRIPTION:
URL:https://fpam.pt/event/lipa-funfly-i-2026-2/
CATEGORIES:F3 Todas
ORGANIZER;CN="LIPA - Liga de Inicia%C3%A7%C3%A3o e Propaganda da Aeron%C3%A1utica":MAILTO:lipa.direcao@gmail.com
END:VEVENT
BEGIN:VEVENT
DTSTART;VALUE=DATE:20260412
DTEND;VALUE=DATE:20260413
DTSTAMP:20260419T222859
CREATED:20260106T205318Z
LAST-MODIFIED:20260406T120312Z
UID:2980-1775952000-1776038399@fpam.pt
SUMMARY:Prova F1M Coimbra
DESCRIPTION:regulamentoProvaF1M_2026
URL:https://fpam.pt/event/prova-f1m-coimbra-4/
CATEGORIES:Voo Livre
END:VEVENT
BEGIN:VEVENT
DTSTART;VALUE=DATE:20260418
DTEND;VALUE=DATE:20260419
DTSTAMP:20260419T222859
CREATED:20260106T205333Z
LAST-MODIFIED:20260106T205333Z
UID:2987-1776470400-1776556799@fpam.pt
SUMMARY:21ª Prova de F9M
DESCRIPTION:
URL:https://fpam.pt/event/21a-prova-de-f9m-2/
CATEGORIES:F9M
ORGANIZER;CN="CAAR %E2%8B%85 Clube de Aeromodelismo de Alverca do Ribatejo":MAILTO:caar.aeromodelismo@gmail.com
END:VEVENT
BEGIN:VEVENT
DTSTART;VALUE=DATE:20260418
DTEND;VALUE=DATE:20260419
DTSTAMP:20260419T222859
CREATED:20260106T205333Z
LAST-MODIFIED:20260106T205333Z
UID:2989-1776470400-1776556799@fpam.pt
SUMMARY:Troféu Armindo Silva
DESCRIPTION:
URL:https://fpam.pt/event/trofeu-armindo-silva-2/
CATEGORIES:F3 Todas
END:VEVENT
BEGIN:VEVENT
DTSTART;VALUE=DATE:20260418
DTEND;VALUE=DATE:20260419
DTSTAMP:20260419T222859
CREATED:20260106T205333Z
LAST-MODIFIED:20260410T111344Z
UID:2985-1776470400-1776556799@fpam.pt
SUMMARY:Taça de Portugal F4C
DESCRIPTION:Ficha de inscrição Taça de Portugal F4C 2026 \nRegulamento Particular Taça de Portugal F4C 2026
URL:https://fpam.pt/event/taca-de-portugal-f4c-5/
CATEGORIES:F4C
END:VEVENT
BEGIN:VEVENT
DTSTART;TZID=UTC:20260418T165200
DTEND;TZID=UTC:20260418T165200
DTSTAMP:20260419T222859
CREATED:20260106T205333Z
LAST-MODIFIED:20260329T123219Z
UID:2988-1776531120-1776531120@fpam.pt
SUMMARY:Prova F5J Toc ( ADIADA)
DESCRIPTION:
URL:https://fpam.pt/event/prova-f5j-toc-2/
END:VEVENT
BEGIN:VEVENT
DTSTART;VALUE=DATE:20260509
DTEND;VALUE=DATE:20260510
DTSTAMP:20260419T222859
CREATED:20260106T205348Z
LAST-MODIFIED:20260106T205348Z
UID:2991-1778284800-1778371199@fpam.pt
SUMMARY:1ª Etapa Fernando Coelho Cup
DESCRIPTION:
URL:https://fpam.pt/event/1a-etapa-fernando-coelho-cup-2/
CATEGORIES:F4H
END:VEVENT
BEGIN:VEVENT
DTSTART;TZID=UTC:20260509T080000
DTEND;TZID=UTC:20260509T190000
DTSTAMP:20260419T222859
CREATED:20260330T181413Z
LAST-MODIFIED:20260330T181413Z
UID:3115-1778313600-1778353200@fpam.pt
SUMMARY:Prova F3A do CAAS-2026
DESCRIPTION:Regulamento CAAS – Campeonato Nacional F3A 2026
URL:https://fpam.pt/event/prova-f3a-do-caas-2026-2/
LOCATION:Pista do CAAS\, Assafora
END:VEVENT
BEGIN:VEVENT
DTSTART;VALUE=DATE:20260510
DTEND;VALUE=DATE:20260511
DTSTAMP:20260419T222859
CREATED:20260106T205348Z
LAST-MODIFIED:20260419T113822Z
UID:2990-1778371200-1778457599@fpam.pt
SUMMARY:10º Troféu Quinta do Conde ( Alteração de data)
DESCRIPTION:
URL:https://fpam.pt/event/10o-trofeu-quinta-do-conde-2/
CATEGORIES:Voo Circular
END:VEVENT
BEGIN:VEVENT
DTSTART;VALUE=DATE:20260516
DTEND;VALUE=DATE:20260517
DTSTAMP:20260419T222859
CREATED:20260106T205348Z
LAST-MODIFIED:20260305T093648Z
UID:2992-1778889600-1778975999@fpam.pt
SUMMARY:4ª Taça de Portugal F5J
DESCRIPTION:
URL:https://fpam.pt/event/4a-taca-de-portugal-f5j-2/
CATEGORIES:F5J
ORGANIZER;CN="AMP - Associa%C3%A7%C3%A3o de Modelismo 'Os Pikuinhas'":MAILTO:geral@pikuinhas.pt
END:VEVENT
BEGIN:VEVENT
DTSTART;VALUE=DATE:20260516
DTEND;VALUE=DATE:20260517
DTSTAMP:20260419T222859
CREATED:20260106T205348Z
LAST-MODIFIED:20260106T205348Z
UID:2993-1778889600-1778975999@fpam.pt
SUMMARY:12º Encontro de MicroDrones
DESCRIPTION:
URL:https://fpam.pt/event/12o-encontro-de-microdrones-2/
CATEGORIES:F9M
ORGANIZER;CN="CAAR %E2%8B%85 Clube de Aeromodelismo de Alverca do Ribatejo":MAILTO:caar.aeromodelismo@gmail.com
END:VEVENT
BEGIN:VEVENT
DTSTART;VALUE=DATE:20260523
DTEND;VALUE=DATE:20260524
DTSTAMP:20260419T222859
CREATED:20260106T205349Z
LAST-MODIFIED:20260106T205349Z
UID:2994-1779494400-1779580799@fpam.pt
SUMMARY:Hidros Srª da Ribeira
DESCRIPTION:
URL:https://fpam.pt/event/hidros-sra-da-ribeira-2/
CATEGORIES:Hidros
END:VEVENT
BEGIN:VEVENT
DTSTART;VALUE=DATE:20260523
DTEND;VALUE=DATE:20260524
DTSTAMP:20260419T222859
CREATED:20260106T205403Z
LAST-MODIFIED:20260106T205403Z
UID:2995-1779494400-1779580799@fpam.pt
SUMMARY:Barrosas 2026 I
DESCRIPTION:
URL:https://fpam.pt/event/barrosas-2026-i-2/
CATEGORIES:F3 Todas
ORGANIZER;CN="LIPA - Liga de Inicia%C3%A7%C3%A3o e Propaganda da Aeron%C3%A1utica":MAILTO:lipa.direcao@gmail.com
END:VEVENT
BEGIN:VEVENT
DTSTART;VALUE=DATE:20260606
DTEND;VALUE=DATE:20260607
DTSTAMP:20260419T222859
CREATED:20260106T203637Z
LAST-MODIFIED:20260106T205403Z
UID:2903-1780704000-1780790399@fpam.pt
SUMMARY:Retrosoaring 2026
DESCRIPTION:
URL:https://fpam.pt/event/retrosoaring-2026/
CATEGORIES:F3 Todas
ORGANIZER;CN="LIPA - Liga de Inicia%C3%A7%C3%A3o e Propaganda da Aeron%C3%A1utica":MAILTO:lipa.direcao@gmail.com
END:VEVENT
BEGIN:VEVENT
DTSTART;VALUE=DATE:20260606
DTEND;VALUE=DATE:20260607
DTSTAMP:20260419T222859
CREATED:20260106T203637Z
LAST-MODIFIED:20260106T205403Z
UID:2902-1780704000-1780790399@fpam.pt
SUMMARY:4ª Taça de Portugal Skydiving
DESCRIPTION:
URL:https://fpam.pt/event/4a-taca-de-portugal-skydiving/
CATEGORIES:Paraquedas RC
END:VEVENT
BEGIN:VEVENT
DTSTART;VALUE=DATE:20260620
DTEND;VALUE=DATE:20260621
DTSTAMP:20260419T222859
CREATED:20260106T205403Z
LAST-MODIFIED:20260106T205403Z
UID:2996-1781913600-1781999999@fpam.pt
SUMMARY:Aniversário do CAVA
DESCRIPTION:
URL:https://fpam.pt/event/aniversario-do-cava-4/
CATEGORIES:Todas as Classes
END:VEVENT
BEGIN:VEVENT
DTSTART;VALUE=DATE:20260620
DTEND;VALUE=DATE:20260621
DTSTAMP:20260419T222859
CREATED:20260106T205403Z
LAST-MODIFIED:20260106T205403Z
UID:2997-1781913600-1781999999@fpam.pt
SUMMARY:2ª Etapa Fernando Coelho Cup
DESCRIPTION:
URL:https://fpam.pt/event/2a-etapa-fernando-coelho-cup-2/
CATEGORIES:F4H
END:VEVENT
BEGIN:VEVENT
DTSTART;VALUE=DATE:20260627
DTEND;VALUE=DATE:20260628
DTSTAMP:20260419T222859
CREATED:20260106T205418Z
LAST-MODIFIED:20260106T205418Z
UID:2998-1782518400-1782604799@fpam.pt
SUMMARY:34º Aniversário do CAN
DESCRIPTION:
URL:https://fpam.pt/event/34o-aniversario-do-can-2/
CATEGORIES:Todas as Classes
END:VEVENT
BEGIN:VEVENT
DTSTART;VALUE=DATE:20260711
DTEND;VALUE=DATE:20260712
DTSTAMP:20260419T222859
CREATED:20260106T205418Z
LAST-MODIFIED:20260106T205418Z
UID:2999-1783728000-1783814399@fpam.pt
SUMMARY:Barrosas 2026 II
DESCRIPTION:
URL:https://fpam.pt/event/barrosas-2026-ii-2/
CATEGORIES:F3 Todas
ORGANIZER;CN="LIPA - Liga de Inicia%C3%A7%C3%A3o e Propaganda da Aeron%C3%A1utica":MAILTO:lipa.direcao@gmail.com
END:VEVENT
BEGIN:VEVENT
DTSTART;VALUE=DATE:20260725
DTEND;VALUE=DATE:20260726
DTSTAMP:20260419T222859
CREATED:20260106T205418Z
LAST-MODIFIED:20260106T205418Z
UID:3000-1784937600-1785023999@fpam.pt
SUMMARY:Troféu Asa Alta
DESCRIPTION:
URL:https://fpam.pt/event/trofeu-asa-alta-4/
CATEGORIES:Asa Alta
END:VEVENT
BEGIN:VEVENT
DTSTART;VALUE=DATE:20260808
DTEND;VALUE=DATE:20260809
DTSTAMP:20260419T222859
CREATED:20260106T203841Z
LAST-MODIFIED:20260106T205418Z
UID:2907-1786147200-1786233599@fpam.pt
SUMMARY:89º Aniversário da LIPA
DESCRIPTION:
URL:https://fpam.pt/event/89o-aniversario-da-lipa/
CATEGORIES:Todas as Classes
ORGANIZER;CN="LIPA - Liga de Inicia%C3%A7%C3%A3o e Propaganda da Aeron%C3%A1utica":MAILTO:lipa.direcao@gmail.com
END:VEVENT
END:VCALENDAR