BEGIN:VCALENDAR
VERSION:2.0
PRODID:-//Federação Portuguesa Aeromodelismo - ECPv6.10.2//NONSGML v1.0//EN
CALSCALE:GREGORIAN
METHOD:PUBLISH
X-WR-CALNAME:Federação Portuguesa Aeromodelismo
X-ORIGINAL-URL:https://fpam.pt
X-WR-CALDESC:Events for Federação Portuguesa Aeromodelismo
REFRESH-INTERVAL;VALUE=DURATION:PT1H
X-Robots-Tag:noindex
X-PUBLISHED-TTL:PT1H
BEGIN:VTIMEZONE
TZID:Europe/Lisbon
BEGIN:DAYLIGHT
TZOFFSETFROM:+0000
TZOFFSETTO:+0100
TZNAME:WEST
DTSTART:20250330T010000
END:DAYLIGHT
BEGIN:STANDARD
TZOFFSETFROM:+0100
TZOFFSETTO:+0000
TZNAME:WET
DTSTART:20251026T010000
END:STANDARD
END:VTIMEZONE
BEGIN:VEVENT
DTSTART;VALUE=DATE:20250920
DTEND;VALUE=DATE:20250921
DTSTAMP:20260422T005145
CREATED:20250119T111822Z
LAST-MODIFIED:20250119T113433Z
UID:2458-1758326400-1758412799@fpam.pt
SUMMARY:Sardimex 2025
DESCRIPTION:
URL:https://fpam.pt/event/sardimex-2025-2/
CATEGORIES:Indoor
ORGANIZER;CN="LIPA - Liga de Inicia%C3%A7%C3%A3o e Propaganda da Aeron%C3%A1utica":MAILTO:lipa.direcao@gmail.com
END:VEVENT
END:VCALENDAR