BEGIN:VCALENDAR
VERSION:2.0
PRODID:-//Federação Portuguesa Aeromodelismo - ECPv6.10.2//NONSGML v1.0//EN
CALSCALE:GREGORIAN
METHOD:PUBLISH
X-ORIGINAL-URL:https://fpam.pt
X-WR-CALDESC:Events for Federação Portuguesa Aeromodelismo
REFRESH-INTERVAL;VALUE=DURATION:PT1H
X-Robots-Tag:noindex
X-PUBLISHED-TTL:PT1H
BEGIN:VTIMEZONE
TZID:Europe/Lisbon
BEGIN:DAYLIGHT
TZOFFSETFROM:+0000
TZOFFSETTO:+0100
TZNAME:WEST
DTSTART:20260329T010000
END:DAYLIGHT
BEGIN:STANDARD
TZOFFSETFROM:+0100
TZOFFSETTO:+0000
TZNAME:WET
DTSTART:20261025T010000
END:STANDARD
END:VTIMEZONE
BEGIN:VEVENT
DTSTART;VALUE=DATE:20261107
DTEND;VALUE=DATE:20261108
DTSTAMP:20260419T230659
CREATED:20260106T205530Z
LAST-MODIFIED:20260106T205530Z
UID:3013-1794009600-1794095999@fpam.pt
SUMMARY:4ªEtapa Fernando Coelho Cup
DESCRIPTION:
URL:https://fpam.pt/event/4aetapa-fernando-coelho-cup-2/
CATEGORIES:F4H
END:VEVENT
BEGIN:VEVENT
DTSTART;VALUE=DATE:20261121
DTEND;VALUE=DATE:20261122
DTSTAMP:20260419T230659
CREATED:20260106T205546Z
LAST-MODIFIED:20260106T205546Z
UID:3018-1795219200-1795305599@fpam.pt
SUMMARY:Fernando Coelho scale day
DESCRIPTION:
URL:https://fpam.pt/event/fernando-coelho-scale-day-4/
CATEGORIES:F4H
END:VEVENT
END:VCALENDAR