BEGIN:VCALENDAR
VERSION:2.0
PRODID:-//Federação Portuguesa Aeromodelismo - ECPv6.10.2//NONSGML v1.0//EN
CALSCALE:GREGORIAN
METHOD:PUBLISH
X-ORIGINAL-URL:https://fpam.pt
X-WR-CALDESC:Events for Federação Portuguesa Aeromodelismo
REFRESH-INTERVAL;VALUE=DURATION:PT1H
X-Robots-Tag:noindex
X-PUBLISHED-TTL:PT1H
BEGIN:VTIMEZONE
TZID:Europe/Lisbon
BEGIN:DAYLIGHT
TZOFFSETFROM:+0000
TZOFFSETTO:+0100
TZNAME:WEST
DTSTART:20260329T010000
END:DAYLIGHT
BEGIN:STANDARD
TZOFFSETFROM:+0100
TZOFFSETTO:+0000
TZNAME:WET
DTSTART:20261025T010000
END:STANDARD
END:VTIMEZONE
BEGIN:VEVENT
DTSTART;VALUE=DATE:20260418
DTEND;VALUE=DATE:20260419
DTSTAMP:20260419T150052
CREATED:20260106T205333Z
LAST-MODIFIED:20260106T205333Z
UID:2989-1776470400-1776556799@fpam.pt
SUMMARY:Troféu Armindo Silva
DESCRIPTION:
URL:https://fpam.pt/event/trofeu-armindo-silva-2/
CATEGORIES:F3 Todas
END:VEVENT
END:VCALENDAR