BEGIN:VCALENDAR
VERSION:2.0
PRODID:-//Federação Portuguesa Aeromodelismo - ECPv6.10.2//NONSGML v1.0//EN
CALSCALE:GREGORIAN
METHOD:PUBLISH
X-ORIGINAL-URL:https://fpam.pt
X-WR-CALDESC:Events for Federação Portuguesa Aeromodelismo
REFRESH-INTERVAL;VALUE=DURATION:PT1H
X-Robots-Tag:noindex
X-PUBLISHED-TTL:PT1H
BEGIN:VTIMEZONE
TZID:Europe/Lisbon
BEGIN:DAYLIGHT
TZOFFSETFROM:+0000
TZOFFSETTO:+0100
TZNAME:WEST
DTSTART:20250330T010000
END:DAYLIGHT
BEGIN:STANDARD
TZOFFSETFROM:+0100
TZOFFSETTO:+0000
TZNAME:WET
DTSTART:20251026T010000
END:STANDARD
END:VTIMEZONE
BEGIN:VEVENT
DTSTART;VALUE=DATE:20250914
DTEND;VALUE=DATE:20250915
DTSTAMP:20260420T070928
CREATED:20250119T111822Z
LAST-MODIFIED:20250119T113433Z
UID:2457-1757808000-1757894399@fpam.pt
SUMMARY:Troféu Asa Alta
DESCRIPTION:
URL:https://fpam.pt/event/trofeu-asa-alta-3/
CATEGORIES:Asa Alta
END:VEVENT
END:VCALENDAR