BEGIN:VCALENDAR
VERSION:2.0
PRODID:-//Federação Portuguesa Aeromodelismo - ECPv6.10.2//NONSGML v1.0//EN
CALSCALE:GREGORIAN
METHOD:PUBLISH
X-WR-CALNAME:Federação Portuguesa Aeromodelismo
X-ORIGINAL-URL:https://fpam.pt
X-WR-CALDESC:Events for Federação Portuguesa Aeromodelismo
REFRESH-INTERVAL;VALUE=DURATION:PT1H
X-Robots-Tag:noindex
X-PUBLISHED-TTL:PT1H
BEGIN:VTIMEZONE
TZID:Europe/Lisbon
BEGIN:DAYLIGHT
TZOFFSETFROM:+0000
TZOFFSETTO:+0100
TZNAME:WEST
DTSTART:20260329T010000
END:DAYLIGHT
BEGIN:STANDARD
TZOFFSETFROM:+0100
TZOFFSETTO:+0000
TZNAME:WET
DTSTART:20261025T010000
END:STANDARD
END:VTIMEZONE
BEGIN:VTIMEZONE
TZID:UTC
BEGIN:STANDARD
TZOFFSETFROM:+0000
TZOFFSETTO:+0000
TZNAME:UTC
DTSTART:20260101T000000
END:STANDARD
END:VTIMEZONE
BEGIN:VEVENT
DTSTART;VALUE=DATE:20260926
DTEND;VALUE=DATE:20260927
DTSTAMP:20260419T194602
CREATED:20260106T205514Z
LAST-MODIFIED:20260106T205514Z
UID:3007-1790380800-1790467199@fpam.pt
SUMMARY:73º Aniversário do CAL
DESCRIPTION:
URL:https://fpam.pt/event/73o-aniversario-do-cal-2/
CATEGORIES:Todas as Classes
END:VEVENT
BEGIN:VEVENT
DTSTART;TZID=UTC:20260926T090000
DTEND;TZID=UTC:20260926T170000
DTSTAMP:20260419T194602
CREATED:20260207T165129Z
LAST-MODIFIED:20260207T165129Z
UID:3073-1790413200-1790442000@fpam.pt
SUMMARY:Prova F3A do CJA 2026
DESCRIPTION:
URL:https://fpam.pt/event/prova-f3a-do-cja-2026/
LOCATION:Pista CJA Tomar\, Valdonas
END:VEVENT
END:VCALENDAR