BEGIN:VCALENDAR
VERSION:2.0
PRODID:-//Federação Portuguesa Aeromodelismo - ECPv6.10.2//NONSGML v1.0//EN
CALSCALE:GREGORIAN
METHOD:PUBLISH
X-WR-CALNAME:Federação Portuguesa Aeromodelismo
X-ORIGINAL-URL:https://fpam.pt
X-WR-CALDESC:Events for Federação Portuguesa Aeromodelismo
REFRESH-INTERVAL;VALUE=DURATION:PT1H
X-Robots-Tag:noindex
X-PUBLISHED-TTL:PT1H
BEGIN:VTIMEZONE
TZID:Europe/Lisbon
BEGIN:DAYLIGHT
TZOFFSETFROM:+0000
TZOFFSETTO:+0100
TZNAME:WEST
DTSTART:20260329T010000
END:DAYLIGHT
BEGIN:STANDARD
TZOFFSETFROM:+0100
TZOFFSETTO:+0000
TZNAME:WET
DTSTART:20261025T010000
END:STANDARD
END:VTIMEZONE
BEGIN:VEVENT
DTSTART;VALUE=DATE:20260905
DTEND;VALUE=DATE:20260907
DTSTAMP:20260419T180100
CREATED:20260106T205456Z
LAST-MODIFIED:20260413T180225Z
UID:3006-1788566400-1788739199@fpam.pt
SUMMARY:Open Pikuinhas F5J 2026/Troféu Ibérico
DESCRIPTION:
URL:https://fpam.pt/event/open-pikuinhas-f5j-2026-trofeu-iberico-2/
CATEGORIES:F5J
ORGANIZER;CN="AMP - Associa%C3%A7%C3%A3o de Modelismo 'Os Pikuinhas'":MAILTO:geral@pikuinhas.pt
END:VEVENT
END:VCALENDAR