BEGIN:VCALENDAR
VERSION:2.0
PRODID:-//Federação Portuguesa Aeromodelismo - ECPv6.10.2//NONSGML v1.0//EN
CALSCALE:GREGORIAN
METHOD:PUBLISH
X-WR-CALNAME:Federação Portuguesa Aeromodelismo
X-ORIGINAL-URL:https://fpam.pt
X-WR-CALDESC:Events for Federação Portuguesa Aeromodelismo
REFRESH-INTERVAL;VALUE=DURATION:PT1H
X-Robots-Tag:noindex
X-PUBLISHED-TTL:PT1H
BEGIN:VTIMEZONE
TZID:Europe/Lisbon
BEGIN:DAYLIGHT
TZOFFSETFROM:+0000
TZOFFSETTO:+0100
TZNAME:WEST
DTSTART:20260329T010000
END:DAYLIGHT
BEGIN:STANDARD
TZOFFSETFROM:+0100
TZOFFSETTO:+0000
TZNAME:WET
DTSTART:20261025T010000
END:STANDARD
END:VTIMEZONE
BEGIN:VEVENT
DTSTART;VALUE=DATE:20260606
DTEND;VALUE=DATE:20260607
DTSTAMP:20260419T143544
CREATED:20260106T203637Z
LAST-MODIFIED:20260106T205403Z
UID:2902-1780704000-1780790399@fpam.pt
SUMMARY:4ª Taça de Portugal Skydiving
DESCRIPTION:
URL:https://fpam.pt/event/4a-taca-de-portugal-skydiving/
CATEGORIES:Paraquedas RC
END:VEVENT
BEGIN:VEVENT
DTSTART;VALUE=DATE:20260606
DTEND;VALUE=DATE:20260607
DTSTAMP:20260419T143544
CREATED:20260106T203637Z
LAST-MODIFIED:20260106T205403Z
UID:2903-1780704000-1780790399@fpam.pt
SUMMARY:Retrosoaring 2026
DESCRIPTION:
URL:https://fpam.pt/event/retrosoaring-2026/
CATEGORIES:F3 Todas
ORGANIZER;CN="LIPA - Liga de Inicia%C3%A7%C3%A3o e Propaganda da Aeron%C3%A1utica":MAILTO:lipa.direcao@gmail.com
END:VEVENT
END:VCALENDAR